BEGIN:VCALENDAR
VERSION:2.0
PRODID:-//TwinState Salon Supply - ECPv6.5.1.1//NONSGML v1.0//EN
CALSCALE:GREGORIAN
METHOD:PUBLISH
X-ORIGINAL-URL:https://twinstate.net
X-WR-CALDESC:Events for TwinState Salon Supply
REFRESH-INTERVAL;VALUE=DURATION:PT1H
X-Robots-Tag:noindex
X-PUBLISHED-TTL:PT1H
BEGIN:VTIMEZONE
TZID:America/New_York
BEGIN:DAYLIGHT
TZOFFSETFROM:-0500
TZOFFSETTO:-0400
TZNAME:EDT
DTSTART:20230312T070000
END:DAYLIGHT
BEGIN:STANDARD
TZOFFSETFROM:-0400
TZOFFSETTO:-0500
TZNAME:EST
DTSTART:20231105T060000
END:STANDARD
END:VTIMEZONE
BEGIN:VEVENT
DTSTART;TZID=America/New_York:20230212T100000
DTEND;TZID=America/New_York:20230212T140000
DTSTAMP:20260425T181158
CREATED:20221104T225604Z
LAST-MODIFIED:20221104T225604Z
UID:21282-1676196000-1676210400@twinstate.net
SUMMARY:Davines: Social Media Course
DESCRIPTION:GET NOTICED ON SOCIAL MEDIA\nDo you struggle with deciding what and when to post? Then join us for an interactive lunch on how to utilize social media to expand your business as hairstylists and salon owners. Topics range from Instagram Stories\, IGTV\, and creating photo and video content to business tips and tricks you can use to bring in more clients and keep them coming back. \nContact your Twin State Sales Consultant or call 1-800-344-5660.
URL:https://twinstate.net/education/davines-social-media-course/
LOCATION:Maggiano’s McLean\, 2001 International Drive\, McLean\, VA\, 22102\, United States
END:VEVENT
END:VCALENDAR