BEGIN:VCALENDAR
VERSION:2.0
PRODID:-//TwinState Salon Supply - ECPv6.5.1.1//NONSGML v1.0//EN
CALSCALE:GREGORIAN
METHOD:PUBLISH
X-ORIGINAL-URL:https://twinstate.net
X-WR-CALDESC:Events for TwinState Salon Supply
REFRESH-INTERVAL;VALUE=DURATION:PT1H
X-Robots-Tag:noindex
X-PUBLISHED-TTL:PT1H
BEGIN:VTIMEZONE
TZID:America/New_York
BEGIN:DAYLIGHT
TZOFFSETFROM:-0500
TZOFFSETTO:-0400
TZNAME:EDT
DTSTART:20230312T070000
END:DAYLIGHT
BEGIN:STANDARD
TZOFFSETFROM:-0400
TZOFFSETTO:-0500
TZNAME:EST
DTSTART:20231105T060000
END:STANDARD
END:VTIMEZONE
BEGIN:VEVENT
DTSTART;TZID=America/New_York:20230312T100000
DTEND;TZID=America/New_York:20230312T140000
DTSTAMP:20260425T162614
CREATED:20221123T160526Z
LAST-MODIFIED:20221123T160526Z
UID:21344-1678615200-1678629600@twinstate.net
SUMMARY:Davines: Social Media Course - Virginia Beach
DESCRIPTION:GET NOTICED ON SOCIAL MEDIA\nDo you struggle with deciding what and when to post? Then join us for an interactive lunch on how to utilize social media to expand your business as hairstylists and salon owners. Topics range from Instagram Stories\, IGTV\, and creating photo and video content to business tips and tricks you can use to bring in more clients and keep them coming back. \nPurchase your tickets before Dec 30th\, 2022 and receive 30% off. Tickets are nonrefundable. \nContact your Twin State Sales Consultant or email our Education Coordinator\, Terina (terinak@twinstate.net)
URL:https://twinstate.net/education/davines-social-media-course-virginia-beach/
LOCATION:Macaroni Grill\, 4574 Virgnia Beach BLVD\, Virginia Beach\, VA\, 23462\, United States
CATEGORIES:Education
END:VEVENT
END:VCALENDAR