BEGIN:VCALENDAR
VERSION:2.0
PRODID:-//TwinState Salon Supply - ECPv6.5.1.1//NONSGML v1.0//EN
CALSCALE:GREGORIAN
METHOD:PUBLISH
X-ORIGINAL-URL:https://twinstate.net
X-WR-CALDESC:Events for TwinState Salon Supply
REFRESH-INTERVAL;VALUE=DURATION:PT1H
X-Robots-Tag:noindex
X-PUBLISHED-TTL:PT1H
BEGIN:VTIMEZONE
TZID:America/New_York
BEGIN:DAYLIGHT
TZOFFSETFROM:-0500
TZOFFSETTO:-0400
TZNAME:EDT
DTSTART:20230312T070000
END:DAYLIGHT
BEGIN:STANDARD
TZOFFSETFROM:-0400
TZOFFSETTO:-0500
TZNAME:EST
DTSTART:20231105T060000
END:STANDARD
END:VTIMEZONE
BEGIN:VEVENT
DTSTART;TZID=America/New_York:20230410T100000
DTEND;TZID=America/New_York:20230410T160000
DTSTAMP:20260425T181132
CREATED:20230316T163213Z
LAST-MODIFIED:20230316T163213Z
UID:21525-1681120800-1681142400@twinstate.net
SUMMARY:All Things Blonde
DESCRIPTION:Take your blonding skills to the next level with All Things Blonde. Walk away feeling more confident in your blonde product choices\, your technique placement\, and proper at home maintenance. Find out if blondes really do have more fun during this program. \nLook forward to learning: \n\nBuild confidence with your blonde consultations\nProduct options\nVersatile Blonding Techniques\nApplication Techniques\nToning tips and tricks\nAfter lightening maintenance\n\nRegister with your Twin State Sales Consultant or by emailing our Education Coordinator: terinak@twinstate.net
URL:https://twinstate.net/education/all-things-blonde/
LOCATION:Salon Alora\, 14418 Hull Street Road\, Chesterfield\, VA\, 23832\, United States
CATEGORIES:Education
END:VEVENT
END:VCALENDAR