BEGIN:VCALENDAR
VERSION:2.0
PRODID:-//TwinState Salon Supply - ECPv6.5.1.1//NONSGML v1.0//EN
CALSCALE:GREGORIAN
METHOD:PUBLISH
X-WR-CALNAME:TwinState Salon Supply
X-ORIGINAL-URL:https://twinstate.net
X-WR-CALDESC:Events for TwinState Salon Supply
REFRESH-INTERVAL;VALUE=DURATION:PT1H
X-Robots-Tag:noindex
X-PUBLISHED-TTL:PT1H
BEGIN:VTIMEZONE
TZID:America/New_York
BEGIN:DAYLIGHT
TZOFFSETFROM:-0500
TZOFFSETTO:-0400
TZNAME:EDT
DTSTART:20230312T070000
END:DAYLIGHT
BEGIN:STANDARD
TZOFFSETFROM:-0400
TZOFFSETTO:-0500
TZNAME:EST
DTSTART:20231105T060000
END:STANDARD
END:VTIMEZONE
BEGIN:VEVENT
DTSTART;TZID=America/New_York:20230416T110000
DTEND;TZID=America/New_York:20230416T150000
DTSTAMP:20260425T180726
CREATED:20230208T231050Z
LAST-MODIFIED:20230208T231050Z
UID:21454-1681642800-1681657200@twinstate.net
SUMMARY:Davines: Social Media Course
DESCRIPTION:GET NOTICED ON SOCIAL MEDIA\nDo you struggle with deciding what and when to post? Then join us for an interactive lunch on how to utilize social media to expand your business as hairstylists and salon owners. Topics range from Instagram Stories\, IGTV\, and creating photo and video content to business tips and tricks you can use to bring in more clients and keep them coming back. \nRegister with your Twin State Sales Consultant or email our Education Coordinator terinak@twinstate.net
URL:https://twinstate.net/education/davines-social-media-course-4/
LOCATION:Hotel Gunter/Toasted Goat Restaurant\, 11 W Main ST\, Frostburg\, MD\, 21532\, United States
CATEGORIES:Education
END:VEVENT
END:VCALENDAR