BEGIN:VCALENDAR
VERSION:2.0
PRODID:-//TwinState Salon Supply - ECPv6.5.1.1//NONSGML v1.0//EN
CALSCALE:GREGORIAN
METHOD:PUBLISH
X-WR-CALNAME:TwinState Salon Supply
X-ORIGINAL-URL:https://twinstate.net
X-WR-CALDESC:Events for TwinState Salon Supply
REFRESH-INTERVAL;VALUE=DURATION:PT1H
X-Robots-Tag:noindex
X-PUBLISHED-TTL:PT1H
BEGIN:VTIMEZONE
TZID:America/New_York
BEGIN:DAYLIGHT
TZOFFSETFROM:-0500
TZOFFSETTO:-0400
TZNAME:EDT
DTSTART:20230312T070000
END:DAYLIGHT
BEGIN:STANDARD
TZOFFSETFROM:-0400
TZOFFSETTO:-0500
TZNAME:EST
DTSTART:20231105T060000
END:STANDARD
END:VTIMEZONE
BEGIN:VEVENT
DTSTART;TZID=America/New_York:20230205T100000
DTEND;TZID=America/New_York:20230205T130000
DTSTAMP:20260425T162415
CREATED:20221206T141140Z
LAST-MODIFIED:20221206T142900Z
UID:21355-1675591200-1675602000@twinstate.net
SUMMARY:Hot Heads: Mane Inspiration - Chesapeake\, VA
DESCRIPTION:GET INSPIRED! In this Look & Learn\, our Master Educators and extensions experts will teach you about our 3-extension methods: Tape\, Weft\, and Fusion extensions. You’ll learn how to combine the three methods to create the most luxe customized looks for your clients\, while saving time and increasing your income behind the chair. \n  \nRegister: Contact your Twin State Sales Consultant or email our Education Coordinator\, Terina (terinak@twinstate.net)
URL:https://twinstate.net/education/hot-heads-mane-inspiration-chesapeake-va/
LOCATION:Coastal Roots\, 236 Carmichael Way\, Suite 301\, Chesapeake\, VA\, 23322\, United States
CATEGORIES:Education
END:VEVENT
BEGIN:VEVENT
DTSTART;TZID=America/New_York:20230205T130000
DTEND;TZID=America/New_York:20230205T170000
DTSTAMP:20260425T162415
CREATED:20221206T141448Z
LAST-MODIFIED:20221206T142647Z
UID:21357-1675602000-1675616400@twinstate.net
SUMMARY:Hot Heads: Sew-In Weft Certification - Chesapeake\, VA
DESCRIPTION:Learn the method that’s HOT right now\, with our in-person Sew-In Weft certification classes. This up-close-and-personal series includes a full mannequin doll head application using synthetic weft practice hair\, client-consultation tips\, color matching\, pricing\, order building\, cutting and blending\, as well as daily maintenance and extension business know-how. \nRegister: Contact your Twin State Sales Consultant or email our Education Coordinator\, Terina (terinak@twinstate.net)
URL:https://twinstate.net/education/hot-heads-sew-in-weft-certification-chesapeake-va/
LOCATION:Coastal Roots\, 236 Carmichael Way\, Suite 301\, Chesapeake\, VA\, 23322\, United States
END:VEVENT
BEGIN:VEVENT
DTSTART;TZID=America/New_York:20230206T100000
DTEND;TZID=America/New_York:20230206T113000
DTSTAMP:20260425T162415
CREATED:20230106T161205Z
LAST-MODIFIED:20230106T162106Z
UID:21397-1675677600-1675683000@twinstate.net
SUMMARY:DESIGN.ME: Curl Goals
DESCRIPTION:Take a journey into all things natural waves\, curls\, and coils! From 2A – 4C\, and all of the gorgeous textures in between. \nTake a look at the DESIGNME approach to curls and see demos of care\, prep\, shape and styling techniques for more volume\, shine bounce and added glamour! \nHosted by: DESIGNME Artist Sarah Heath | @sarahsgotbighair \nRegister: https://my.demio.com/ref/CzqPz3cedjLQwUwh
URL:https://twinstate.net/education/designme-curl-goals-2/
LOCATION:Virtual\, United States
CATEGORIES:Education
END:VEVENT
BEGIN:VEVENT
DTSTART;TZID=America/New_York:20230206T100000
DTEND;TZID=America/New_York:20230206T130000
DTSTAMP:20260425T162415
CREATED:20221206T142229Z
LAST-MODIFIED:20221206T142553Z
UID:21359-1675677600-1675688400@twinstate.net
SUMMARY:Hot Heads: Mane Inspiration - Mechanicsville\, VA
DESCRIPTION:GET INSPIRED! In this Look & Learn\, our Master Educators and extensions experts will teach you about our 3-extension methods: Tape\, Weft\, and Fusion extensions. You’ll learn how to combine the three methods to create the most luxe customized looks for your clients\, while saving time and increasing your income behind the chair. \nRegister: Contact your Twin State Sales Consultant or email our Education Coordinator\, Terina (terinak@twinstate.net)
URL:https://twinstate.net/education/hot-heads-mane-inspiration-mechanicsville-va/
LOCATION:Reya Beauty Studio\, 8324 Bell Creed Road #900\, Mechanicsville\, VA\, 23111\, United States
CATEGORIES:Education
END:VEVENT
BEGIN:VEVENT
DTSTART;TZID=America/New_York:20230206T100000
DTEND;TZID=America/New_York:20230206T130000
DTSTAMP:20260425T162415
CREATED:20221208T203708Z
LAST-MODIFIED:20221208T203708Z
UID:21374-1675677600-1675688400@twinstate.net
SUMMARY:Brazilian Blowout Smoothing Certification
DESCRIPTION:We proudly offer FREE training to licensed stylists interested in offering Brazilian Blowout professional smoothing services. This live in-person training event includes the latest techniques\, new services\, business building tips\, access to proven marketing tools and much more. Registered attendees receive a gift of $53 retail value. \nRegister: Contact your Twin State Sales Consultant or our Education Coordinator\, Terina (terinak@twinstate.net) \n 
URL:https://twinstate.net/education/brazilian-blowout-smoothing-certification/
LOCATION:Phi Hair Design\, 3559 Silverside RD\, Unit D\, Wilmington\, DE\, 19810\, United States
CATEGORIES:Education
END:VEVENT
BEGIN:VEVENT
DTSTART;TZID=America/New_York:20230206T130000
DTEND;TZID=America/New_York:20230206T170000
DTSTAMP:20260425T162415
CREATED:20221206T142502Z
LAST-MODIFIED:20221206T142621Z
UID:21361-1675688400-1675702800@twinstate.net
SUMMARY:Hot Heads: Sew-In Weft Certification - Mechanicsville\, VA
DESCRIPTION:Learn the method that’s HOT right now\, with our in-person Sew-In Weft certification classes. This up-close-and-personal series includes a full mannequin doll head application using synthetic weft practice hair\, client-consultation tips\, color matching\, pricing\, order building\, cutting and blending\, as well as daily maintenance and extension business know-how. \nRegister: Contact your Twin State Sales Consultant or email our Education Coordinator\, Terina (terinak@twinstate.net)
URL:https://twinstate.net/education/hot-heads-sew-in-weft-certification/
LOCATION:Reya Beauty Studio\, 8324 Bell Creed Road #900\, Mechanicsville\, VA\, 23111\, United States
CATEGORIES:Education
END:VEVENT
BEGIN:VEVENT
DTSTART;TZID=America/New_York:20230206T140000
DTEND;TZID=America/New_York:20230206T160000
DTSTAMP:20260425T162415
CREATED:20230106T162224Z
LAST-MODIFIED:20230106T162224Z
UID:21406-1675692000-1675699200@twinstate.net
SUMMARY:DESIGN.ME: DMH101: GET TO KNOW.ME
DESCRIPTION:Join us for a dynamic virtual introduction to all things DESIGNME. Who are we? What do we do? Why are we about to be hair besties? \nWant to know how to easily create some of the biggest volume ever? Or how to layer curl products seamlessly? Or\, how to get gorgeously shiny\, strands? We’ve got you covered in this class. \nHosted by: DESIGNME Artist Sarah Heath | @sarahsgotbighair \nRegister: https://my.demio.com/ref/jCxdx5zkYZ1CZGP8
URL:https://twinstate.net/education/design-me-dmh101-get-to-know-me-3/
LOCATION:Virtual\, United States
CATEGORIES:Education
END:VEVENT
BEGIN:VEVENT
DTSTART;TZID=America/New_York:20230212T100000
DTEND;TZID=America/New_York:20230212T140000
DTSTAMP:20260425T162415
CREATED:20221104T225604Z
LAST-MODIFIED:20221104T225604Z
UID:21282-1676196000-1676210400@twinstate.net
SUMMARY:Davines: Social Media Course
DESCRIPTION:GET NOTICED ON SOCIAL MEDIA\nDo you struggle with deciding what and when to post? Then join us for an interactive lunch on how to utilize social media to expand your business as hairstylists and salon owners. Topics range from Instagram Stories\, IGTV\, and creating photo and video content to business tips and tricks you can use to bring in more clients and keep them coming back. \nContact your Twin State Sales Consultant or call 1-800-344-5660.
URL:https://twinstate.net/education/davines-social-media-course/
LOCATION:Maggiano’s McLean\, 2001 International Drive\, McLean\, VA\, 22102\, United States
END:VEVENT
BEGIN:VEVENT
DTSTART;TZID=America/New_York:20230213T100000
DTEND;TZID=America/New_York:20230213T140000
DTSTAMP:20260425T162415
CREATED:20221104T225750Z
LAST-MODIFIED:20221118T203921Z
UID:21285-1676282400-1676296800@twinstate.net
SUMMARY:Davines: Social Media Course - SOLD OUT
DESCRIPTION:GET NOTICED ON SOCIAL MEDIA\nDo you struggle with deciding what and when to post? Then join us for an interactive lunch on how to utilize social media to expand your business as hairstylists and salon owners. Topics range from Instagram Stories\, IGTV\, and creating photo and video content to business tips and tricks you can use to bring in more clients and keep them coming back.
URL:https://twinstate.net/education/davines-social-media-course-2/
LOCATION:Maggiano’s Annapolis\, 2100 Annapolis Mall\, Suite 1200\, Annapolis\, MD\, 21401\, United States
END:VEVENT
END:VCALENDAR