BEGIN:VCALENDAR
VERSION:2.0
PRODID:-//TwinState Salon Supply - ECPv6.5.1.1//NONSGML v1.0//EN
CALSCALE:GREGORIAN
METHOD:PUBLISH
X-ORIGINAL-URL:https://twinstate.net
X-WR-CALDESC:Events for TwinState Salon Supply
REFRESH-INTERVAL;VALUE=DURATION:PT1H
X-Robots-Tag:noindex
X-PUBLISHED-TTL:PT1H
BEGIN:VTIMEZONE
TZID:America/New_York
BEGIN:DAYLIGHT
TZOFFSETFROM:-0500
TZOFFSETTO:-0400
TZNAME:EDT
DTSTART:20230312T070000
END:DAYLIGHT
BEGIN:STANDARD
TZOFFSETFROM:-0400
TZOFFSETTO:-0500
TZNAME:EST
DTSTART:20231105T060000
END:STANDARD
END:VTIMEZONE
BEGIN:VEVENT
DTSTART;TZID=America/New_York:20230403T100000
DTEND;TZID=America/New_York:20230403T113000
DTSTAMP:20260425T162604
CREATED:20230317T175132Z
LAST-MODIFIED:20230317T175132Z
UID:21529-1680516000-1680521400@twinstate.net
SUMMARY:Design.Me Curl Goals - Virtual
DESCRIPTION:Sign on and deep dive into our story\, product collections and detailed demos right from the comfort of your home\, your salon or from anywhere you like really! \nWant to know more about precise care\, prep\, shape\, & multiple styling techniques for more volume\, shine\, bounce\, or added glamour? Want to understand how/why to layer curl products seamlessly for the waves\, curls\, or coils of your dreams? Take a look with the DMH approach to curls and see demos. Let’s indulge in this fabulous world of hair!\nFrom ingredients and textures\, to ingenious packaging and delivery systems\, to the best application tips & tricks; your feel-good hair days\nof the future are covered in this entertaining one and a half hour session. \n* Pre register through the link to your preferred session time and take a few minutes to answer questions for us to learn about you!\n** There will be a live interactive chat component on Demio with the Artist + the Co-host for Q&A during presentation. \nRegister: DESIGNME: CURL GOALS \n 
URL:https://twinstate.net/education/design-me-curl-goals-virtual-2/
LOCATION:VA
CATEGORIES:Education
END:VEVENT
BEGIN:VEVENT
DTSTART;TZID=America/New_York:20230403T100000
DTEND;TZID=America/New_York:20230403T120000
DTSTAMP:20260425T162604
CREATED:20230307T232545Z
LAST-MODIFIED:20230307T232545Z
UID:21516-1680516000-1680523200@twinstate.net
SUMMARY:Brazilian Blowout Certification
DESCRIPTION:Become a Brazilian Blowout Certified Stylist! \n  \nRegister with your Twin State Sales Consultant or email our Education Coordinator: terinak@twinstate.net
URL:https://twinstate.net/education/brazilian-blowout-certification-5/
LOCATION:Country Inn & Suites – Annapolis\, 2600 Housley RD\, Annapolis\, MD\, 21401\, United States
CATEGORIES:Education
END:VEVENT
BEGIN:VEVENT
DTSTART;TZID=America/New_York:20230403T130000
DTEND;TZID=America/New_York:20230403T150000
DTSTAMP:20260425T162604
CREATED:20230307T232759Z
LAST-MODIFIED:20230307T232759Z
UID:21518-1680526800-1680534000@twinstate.net
SUMMARY:Leaf & Flower Updo Demo
DESCRIPTION:From bouncy runway hair to beautiful couture updos\, learn how you can give clients that perfect photo finish look! \n  \nRegister with your Twin State Sales Consultant or email our Education Coordinator: terinak@twinstate.net
URL:https://twinstate.net/education/leaf-flower-updo-demo-2/
LOCATION:Country Inn & Suites – Annapolis\, 2600 Housley RD\, Annapolis\, MD\, 21401\, United States
CATEGORIES:Education
END:VEVENT
BEGIN:VEVENT
DTSTART;TZID=America/New_York:20230410T100000
DTEND;TZID=America/New_York:20230410T160000
DTSTAMP:20260425T162604
CREATED:20230316T163213Z
LAST-MODIFIED:20230316T163213Z
UID:21525-1681120800-1681142400@twinstate.net
SUMMARY:All Things Blonde
DESCRIPTION:Take your blonding skills to the next level with All Things Blonde. Walk away feeling more confident in your blonde product choices\, your technique placement\, and proper at home maintenance. Find out if blondes really do have more fun during this program. \nLook forward to learning: \n\nBuild confidence with your blonde consultations\nProduct options\nVersatile Blonding Techniques\nApplication Techniques\nToning tips and tricks\nAfter lightening maintenance\n\nRegister with your Twin State Sales Consultant or by emailing our Education Coordinator: terinak@twinstate.net
URL:https://twinstate.net/education/all-things-blonde/
LOCATION:Salon Alora\, 14418 Hull Street Road\, Chesterfield\, VA\, 23832\, United States
CATEGORIES:Education
END:VEVENT
BEGIN:VEVENT
DTSTART;TZID=America/New_York:20230416T110000
DTEND;TZID=America/New_York:20230416T150000
DTSTAMP:20260425T162604
CREATED:20230208T231050Z
LAST-MODIFIED:20230208T231050Z
UID:21454-1681642800-1681657200@twinstate.net
SUMMARY:Davines: Social Media Course
DESCRIPTION:GET NOTICED ON SOCIAL MEDIA\nDo you struggle with deciding what and when to post? Then join us for an interactive lunch on how to utilize social media to expand your business as hairstylists and salon owners. Topics range from Instagram Stories\, IGTV\, and creating photo and video content to business tips and tricks you can use to bring in more clients and keep them coming back. \nRegister with your Twin State Sales Consultant or email our Education Coordinator terinak@twinstate.net
URL:https://twinstate.net/education/davines-social-media-course-4/
LOCATION:Hotel Gunter/Toasted Goat Restaurant\, 11 W Main ST\, Frostburg\, MD\, 21532\, United States
CATEGORIES:Education
END:VEVENT
BEGIN:VEVENT
DTSTART;TZID=America/New_York:20230417T100000
DTEND;TZID=America/New_York:20230417T120000
DTSTAMP:20260425T162604
CREATED:20230209T005904Z
LAST-MODIFIED:20230209T005904Z
UID:21498-1681725600-1681732800@twinstate.net
SUMMARY:Brazilian Blowout Certification
DESCRIPTION:Become A Certified Brazilian Blowout Stylist \nRegister with your Twin State Sales Consultant or email our Education Coordinator terinak@twinstate.net
URL:https://twinstate.net/education/brazilian-blowout-certification/
LOCATION:Twin State Store – Harrisonburg\, 160 Waterman Dr\, Harrisonburg\, VA\, 22802\, United States
CATEGORIES:Education
END:VEVENT
BEGIN:VEVENT
DTSTART;TZID=America/New_York:20230417T100000
DTEND;TZID=America/New_York:20230417T120000
DTSTAMP:20260425T162604
CREATED:20230307T224555Z
LAST-MODIFIED:20230307T233449Z
UID:21514-1681725600-1681732800@twinstate.net
SUMMARY:Brazilian Blowout Certification
DESCRIPTION:Become a Brazilian Blowout Certified Stylist \n  \nRegister with your Twin State Sales Consultant or our Education Coordinator\, terinak@twinstate.net
URL:https://twinstate.net/education/brazilian-blowout-smoothing-certification-2/
LOCATION:YOU Salon\, 4785 Dorsey Hall Dr\, Suite 118\, Ellicott City\, MD\, 21042\, United States
CATEGORIES:Education
END:VEVENT
BEGIN:VEVENT
DTSTART;TZID=America/New_York:20230417T100000
DTEND;TZID=America/New_York:20230417T130000
DTSTAMP:20260425T162604
CREATED:20230209T005024Z
LAST-MODIFIED:20230209T005024Z
UID:21492-1681725600-1681736400@twinstate.net
SUMMARY:Zenagen: Hair Loss Specialist Certification with Low-Density Cut Demo
DESCRIPTION:Hair Loss Specialist Certification \nIn this certification class\, we will talk about the two main causes of hair loss\, inflammation and DHT build up. We will then learn how ZENAGEN’S technology and ingredients protect the entire ecosystem of the follicle to prevent shedding and help restore healthy hair growth and fullness. Safe for color\, perms\, and keratin treatments. Become the hair loss AND hair regrowth expert in your community! \nLow-Density Haircut Demo \nDo volume\, texture\, and movement elude you with your guests that struggle with fine or thinning hair? Do your guests want layers but struggle with losing density at their ends? Do they want the latest textured trends\, but you fear texturizing too much? Join Chad White\, ZENAGEN’S Director of Education in bringing real solutions that every stylist and every client can see\, feel\, and enjoy. \nRegister with your Twin State Sales Consultant or our Education Coordinator terinak@twinstate.net
URL:https://twinstate.net/education/zenagen-hair-loss-specialist-certification-with-low-density-cut-demo/
LOCATION:Ocean City Fontainebleau Resort\, 10100 Coastal HWY\, Ocean City\, MD\, 21842\, United States
CATEGORIES:Education
END:VEVENT
BEGIN:VEVENT
DTSTART;TZID=America/New_York:20230417T100000
DTEND;TZID=America/New_York:20230417T160000
DTSTAMP:20260425T162604
CREATED:20221206T151827Z
LAST-MODIFIED:20221206T151827Z
UID:21365-1681725600-1681747200@twinstate.net
SUMMARY:Davines: Cutting Foundations - Midlothian\, VA
DESCRIPTION:Join us for an in-depth introduction to the foundation of the Davines cutting method. There will be a focus placed on haircutting techniques for stylists at all skill levels. This class will explore multiple shapes that support strong interior and perimeter shapes. A detailed demonstration and hands-on working session utilizing a mannequin will connect the theory to the practical application. \n  \nRegister: Contact your Twin State Sales Consultant or email our Education Coordinator\, Terina (terinak@twinstate.net)
URL:https://twinstate.net/education/davines-cutting-foundations-midlothian-va/
LOCATION:Serendipity
CATEGORIES:Education
END:VEVENT
BEGIN:VEVENT
DTSTART;TZID=America/New_York:20230417T110000
DTEND;TZID=America/New_York:20230417T150000
DTSTAMP:20260425T162604
CREATED:20221215T192337Z
LAST-MODIFIED:20221215T192337Z
UID:21380-1681729200-1681743600@twinstate.net
SUMMARY:Davines: Social Media Course - Fairmont\, WV
DESCRIPTION:GET NOTICED ON SOCIAL MEDIA\nDo you struggle with deciding what and when to post? Then join us for an interactive lunch on how to utilize social media to expand your business as hairstylists and salon owners. Topics range from Instagram Stories\, IGTV\, and creating photo and video content to business tips and tricks you can use to bring in more clients and keep them coming back. \nPurchase your tickets before January 31\, 2023 and receive 30% off. Tickets are nonrefundable. \nTo register\, contact your Twin State Sales Consultant or email our Education Coordinator\, Terina (terinak@twinstate.net)
URL:https://twinstate.net/education/davines-social-media-course-fairmont-wv/
LOCATION:Muriale’s Restaurant\, 1742 Fairmont Ave\, Fairmont\, WV\, 26554\, United States
CATEGORIES:Education
END:VEVENT
BEGIN:VEVENT
DTSTART;TZID=America/New_York:20230417T133000
DTEND;TZID=America/New_York:20230417T153000
DTSTAMP:20260425T162604
CREATED:20230209T003004Z
LAST-MODIFIED:20230209T003004Z
UID:21485-1681738200-1681745400@twinstate.net
SUMMARY:Leaf & Flower: Curly Cutting
DESCRIPTION:Join us as we share advanced curly cutting techniques and the latest industry trends. \nRegister with your Twin State Sales Consultant or email our Education Coordinator terinak@twinstate.net
URL:https://twinstate.net/education/leaf-flower-curly-cutting-3/
LOCATION:Ocean City Fontainebleau Resort\, 10100 Coastal HWY\, Ocean City\, MD\, 21842\, United States
CATEGORIES:Education
END:VEVENT
END:VCALENDAR