BEGIN:VCALENDAR
VERSION:2.0
PRODID:-//TwinState Salon Supply - ECPv6.5.1.1//NONSGML v1.0//EN
CALSCALE:GREGORIAN
METHOD:PUBLISH
X-ORIGINAL-URL:https://twinstate.net
X-WR-CALDESC:Events for TwinState Salon Supply
REFRESH-INTERVAL;VALUE=DURATION:PT1H
X-Robots-Tag:noindex
X-PUBLISHED-TTL:PT1H
BEGIN:VTIMEZONE
TZID:America/New_York
BEGIN:DAYLIGHT
TZOFFSETFROM:-0500
TZOFFSETTO:-0400
TZNAME:EDT
DTSTART:20230312T070000
END:DAYLIGHT
BEGIN:STANDARD
TZOFFSETFROM:-0400
TZOFFSETTO:-0500
TZNAME:EST
DTSTART:20231105T060000
END:STANDARD
END:VTIMEZONE
BEGIN:VEVENT
DTSTART;TZID=America/New_York:20230605T100000
DTEND;TZID=America/New_York:20230605T113000
DTSTAMP:20260425T193840
CREATED:20230317T175322Z
LAST-MODIFIED:20230317T175322Z
UID:21533-1685959200-1685964600@twinstate.net
SUMMARY:Design.Me Curl Goals - Virtual
DESCRIPTION:Sign on and deep dive into our story\, product collections and detailed demos right from the comfort of your home\, your salon or from anywhere you like really! \nWant to know more about precise care\, prep\, shape\, & multiple styling techniques for more volume\, shine\, bounce\, or added glamour? Want to understand how/why to layer curl products seamlessly for the waves\, curls\, or coils of your dreams? Take a look with the DMH approach to curls and see demos. Let’s indulge in this fabulous world of hair!\nFrom ingredients and textures\, to ingenious packaging and delivery systems\, to the best application tips & tricks; your feel-good hair days\nof the future are covered in this entertaining one and a half hour session. \n* Pre register through the link to your preferred session time and take a few minutes to answer questions for us to learn about you!\n** There will be a live interactive chat component on Demio with the Artist + the Co-host for Q&A during presentation. \nRegister: DESIGNME: CURL GOALS \n 
URL:https://twinstate.net/education/design-me-curl-goals-virtual-3/
LOCATION:VA
CATEGORIES:Education
END:VEVENT
BEGIN:VEVENT
DTSTART;TZID=America/New_York:20230605T100000
DTEND;TZID=America/New_York:20230605T140000
DTSTAMP:20260425T193840
CREATED:20230209T001041Z
LAST-MODIFIED:20230209T002020Z
UID:21477-1685959200-1685973600@twinstate.net
SUMMARY:Alterna: City Slay Shag
DESCRIPTION:Learn all about ALTERNA’s Vegan Line My Hair My Canvas and the signature City Slay Shag and\nStyle \nRegister with your Twin State Sales Consultant or email our Education Coordinator terinak@twinstate.net
URL:https://twinstate.net/education/alterna-city-slay-shag/
LOCATION:Twin State Store – Harrisonburg\, 160 Waterman Dr\, Harrisonburg\, VA\, 22802\, United States
CATEGORIES:Education
END:VEVENT
BEGIN:VEVENT
DTSTART;TZID=America/New_York:20230619T100000
DTEND;TZID=America/New_York:20230619T120000
DTSTAMP:20260425T193840
CREATED:20230512T195747Z
LAST-MODIFIED:20230512T195747Z
UID:21560-1687168800-1687176000@twinstate.net
SUMMARY:Brazilian Blowout Smoothing Certification
DESCRIPTION:Become A Certified Brazilian Blowout Stylist!! \n  \nRegister with your Twin State Sales Consultant or email our Education Coordinator terinak@twinstate.net
URL:https://twinstate.net/education/brazilian-blowout-smoothing-certification-3/
LOCATION:Studio 360\, 10 Fila Way Suite E\, Nottingham\, MD\, 21152\, United States
CATEGORIES:Education
END:VEVENT
BEGIN:VEVENT
DTSTART;TZID=America/New_York:20230619T130000
DTEND;TZID=America/New_York:20230619T150000
DTSTAMP:20260425T193840
CREATED:20230512T200436Z
LAST-MODIFIED:20230512T200436Z
UID:21563-1687179600-1687186800@twinstate.net
SUMMARY:Leaf and Flower Updo
DESCRIPTION:Join us as we share product knowledge on the CBD powered Leaf & Flower line with a demonstration of an Updo Styling so you can give your clients that perfect photo finish look. \nFree gift with advanced registration. \nRegister with your Twin State Sales Consultant or email our Education Coordinator (terinak@twinstate.net)
URL:https://twinstate.net/education/leaf-and-flower-updo/
LOCATION:Studio 360\, 10 Fila Way Suite E\, Nottingham\, MD\, 21152\, United States
CATEGORIES:Education
END:VEVENT
END:VCALENDAR